Workbook

Sheet Журнал матчей
A1: Дата | B1: Соперник | C1: Игрок | D1: Голы | E1: Передачи | F1: Очки | G1: +/- | H1: Штраф, мин | I1: Броски | J1: Время на льду, мин | L1: Как пользоваться
F2: =IF(C2="","",D2+E2) | L2: Одна строка = один игрок в одном матче.
F3: =IF(C3="","",D3+E3) | L3: Заполняйте жёлтые ячейки; «Очки» считаются сами (голы + передачи).
F4: =IF(C4="","",D4+E4) | L4: Итоги по игрокам — на листе «Итоги» (впишите фамилии в столбец A).
F5: =IF(C5="","",D5+E5) | L5: Вратари — на отдельном листе «Вратари».
F6: =IF(C6="","",D6+E6)
F7: =IF(C7="","",D7+E7)
F8: =IF(C8="","",D8+E8)
F9: =IF(C9="","",D9+E9)
F10: =IF(C10="","",D10+E10)
F11: =IF(C11="","",D11+E11)
F12: =IF(C12="","",D12+E12)
F13: =IF(C13="","",D13+E13)
F14: =IF(C14="","",D14+E14)
F15: =IF(C15="","",D15+E15)
F16: =IF(C16="","",D16+E16)
F17: =IF(C17="","",D17+E17)
... F301: =IF(C301="","",D301+E301)

Sheet Итоги
A1: Игрок | B1: Игры | C1: Голы | D1: Передачи | E1: Очки | F1: Очки за игру | G1: +/- | H1: Штраф, мин | I1: Броски | J1: % реализации бросков
B2: =IF(A2="","",COUNTIF('Журнал матчей'!$C$2:$C$301,A2)) | C2: =IF(A2="","",SUMIF('Журнал матчей'!$C$2:$C$301,A2,'Журнал матчей'!$D$2:$D$301)) | D2: =IF(A2="","",SUMIF('Журнал матчей'!$C$2:$C$301,A2,'Журнал матчей'!$E$2:$E$301)) | E2: =IF(A2="","",SUMIF('Журнал матчей'!$C$2:$C$301,A2,'Журнал матчей'!$F$2:$F$301)) | F2: =IF(OR(A2="",B2=0),"",ROUND(E2/B2,2)) | G2: =IF(A2="","",SUMIF('Журнал матчей'!$C$2:$C$301,A2,'Журнал матчей'!$G$2:$G$301)) | H2: =IF(A2="","",SUMIF('Журнал матчей'!$C$2:$C$301,A2,'Журнал матчей'!$H$2:$H$301)) | I2: =IF(A2="","",SUMIF('Журнал матчей'!$C$2:$C$301,A2,'Журнал матчей'!$I$2:$I$301)) | J2: =IF(OR(A2="",I2=0),"",ROUND(C2/I2*100,1))
B3: =IF(A3="","",COUNTIF('Журнал матчей'!$C$2:$C$301,A3)) | C3: =IF(A3="","",SUMIF('Журнал матчей'!$C$2:$C$301,A3,'Журнал матчей'!$D$2:$D$301)) | D3: =IF(A3="","",SUMIF('Журнал матчей'!$C$2:$C$301,A3,'Журнал матчей'!$E$2:$E$301)) | E3: =IF(A3="","",SUMIF('Журнал матчей'!$C$2:$C$301,A3,'Журнал матчей'!$F$2:$F$301)) | F3: =IF(OR(A3="",B3=0),"",ROUND(E3/B3,2)) | G3: =IF(A3="","",SUMIF('Журнал матчей'!$C$2:$C$301,A3,'Журнал матчей'!$G$2:$G$301)) | H3: =IF(A3="","",SUMIF('Журнал матчей'!$C$2:$C$301,A3,'Журнал матчей'!$H$2:$H$301)) | I3: =IF(A3="","",SUMIF('Журнал матчей'!$C$2:$C$301,A3,'Журнал матчей'!$I$2:$I$301)) | J3: =IF(OR(A3="",I3=0),"",ROUND(C3/I3*100,1))
B4: =IF(A4="","",COUNTIF('Журнал матчей'!$C$2:$C$301,A4)) | C4: =IF(A4="","",SUMIF('Журнал матчей'!$C$2:$C$301,A4,'Журнал матчей'!$D$2:$D$301)) | D4: =IF(A4="","",SUMIF('Журнал матчей'!$C$2:$C$301,A4,'Журнал матчей'!$E$2:$E$301)) | E4: =IF(A4="","",SUMIF('Журнал матчей'!$C$2:$C$301,A4,'Журнал матчей'!$F$2:$F$301)) | F4: =IF(OR(A4="",B4=0),"",ROUND(E4/B4,2)) | G4: =IF(A4="","",SUMIF('Журнал матчей'!$C$2:$C$301,A4,'Журнал матчей'!$G$2:$G$301)) | H4: =IF(A4="","",SUMIF('Журнал матчей'!$C$2:$C$301,A4,'Журнал матчей'!$H$2:$H$301)) | I4: =IF(A4="","",SUMIF('Журнал матчей'!$C$2:$C$301,A4,'Журнал матчей'!$I$2:$I$301)) | J4: =IF(OR(A4="",I4=0),"",ROUND(C4/I4*100,1))
B5: =IF(A5="","",COUNTIF('Журнал матчей'!$C$2:$C$301,A5)) | C5: =IF(A5="","",SUMIF('Журнал матчей'!$C$2:$C$301,A5,'Журнал матчей'!$D$2:$D$301)) | D5: =IF(A5="","",SUMIF('Журнал матчей'!$C$2:$C$301,A5,'Журнал матчей'!$E$2:$E$301)) | E5: =IF(A5="","",SUMIF('Журнал матчей'!$C$2:$C$301,A5,'Журнал матчей'!$F$2:$F$301)) | F5: =IF(OR(A5="",B5=0),"",ROUND(E5/B5,2)) | G5: =IF(A5="","",SUMIF('Журнал матчей'!$C$2:$C$301,A5,'Журнал матчей'!$G$2:$G$301)) | H5: =IF(A5="","",SUMIF('Журнал матчей'!$C$2:$C$301,A5,'Журнал матчей'!$H$2:$H$301)) | I5: =IF(A5="","",SUMIF('Журнал матчей'!$C$2:$C$301,A5,'Журнал матчей'!$I$2:$I$301)) | J5: =IF(OR(A5="",I5=0),"",ROUND(C5/I5*100,1))
B6: =IF(A6="","",COUNTIF('Журнал матчей'!$C$2:$C$301,A6)) | C6: =IF(A6="","",SUMIF('Журнал матчей'!$C$2:$C$301,A6,'Журнал матчей'!$D$2:$D$301)) | D6: =IF(A6="","",SUMIF('Журнал матчей'!$C$2:$C$301,A6,'Журнал матчей'!$E$2:$E$301)) | E6: =IF(A6="","",SUMIF('Журнал матчей'!$C$2:$C$301,A6,'Журнал матчей'!$F$2:$F$301)) | F6: =IF(OR(A6="",B6=0),"",ROUND(E6/B6,2)) | G6: =IF(A6="","",SUMIF('Журнал матчей'!$C$2:$C$301,A6,'Журнал матчей'!$G$2:$G$301)) | H6: =IF(A6="","",SUMIF('Журнал матчей'!$C$2:$C$301,A6,'Журнал матчей'!$H$2:$H$301)) | I6: =IF(A6="","",SUMIF('Журнал матчей'!$C$2:$C$301,A6,'Журнал матчей'!$I$2:$I$301)) | J6: =IF(OR(A6="",I6=0),"",ROUND(C6/I6*100,1))
B7: =IF(A7="","",COUNTIF('Журнал матчей'!$C$2:$C$301,A7)) | C7: =IF(A7="","",SUMIF('Журнал матчей'!$C$2:$C$301,A7,'Журнал матчей'!$D$2:$D$301)) | D7: =IF(A7="","",SUMIF('Журнал матчей'!$C$2:$C$301,A7,'Журнал матчей'!$E$2:$E$301)) | E7: =IF(A7="","",SUMIF('Журнал матчей'!$C$2:$C$301,A7,'Журнал матчей'!$F$2:$F$301)) | F7: =IF(OR(A7="",B7=0),"",ROUND(E7/B7,2)) | G7: =IF(A7="","",SUMIF('Журнал матчей'!$C$2:$C$301,A7,'Журнал матчей'!$G$2:$G$301)) | H7: =IF(A7="","",SUMIF('Журнал матчей'!$C$2:$C$301,A7,'Журнал матчей'!$H$2:$H$301)) | I7: =IF(A7="","",SUMIF('Журнал матчей'!$C$2:$C$301,A7,'Журнал матчей'!$I$2:$I$301)) | J7: =IF(OR(A7="",I7=0),"",ROUND(C7/I7*100,1))
B8: =IF(A8="","",COUNTIF('Журнал матчей'!$C$2:$C$301,A8)) | C8: =IF(A8="","",SUMIF('Журнал матчей'!$C$2:$C$301,A8,'Журнал матчей'!$D$2:$D$301)) | D8: =IF(A8="","",SUMIF('Журнал матчей'!$C$2:$C$301,A8,'Журнал матчей'!$E$2:$E$301)) | E8: =IF(A8="","",SUMIF('Журнал матчей'!$C$2:$C$301,A8,'Журнал матчей'!$F$2:$F$301)) | F8: =IF(OR(A8="",B8=0),"",ROUND(E8/B8,2)) | G8: =IF(A8="","",SUMIF('Журнал матчей'!$C$2:$C$301,A8,'Журнал матчей'!$G$2:$G$301)) | H8: =IF(A8="","",SUMIF('Журнал матчей'!$C$2:$C$301,A8,'Журнал матчей'!$H$2:$H$301)) | I8: =IF(A8="","",SUMIF('Журнал матчей'!$C$2:$C$301,A8,'Журнал матчей'!$I$2:$I$301)) | J8: =IF(OR(A8="",I8=0),"",ROUND(C8/I8*100,1))
B9: =IF(A9="","",COUNTIF('Журнал матчей'!$C$2:$C$301,A9)) | C9: =IF(A9="","",SUMIF('Журнал матчей'!$C$2:$C$301,A9,'Журнал матчей'!$D$2:$D$301)) | D9: =IF(A9="","",SUMIF('Журнал матчей'!$C$2:$C$301,A9,'Журнал матчей'!$E$2:$E$301)) | E9: =IF(A9="","",SUMIF('Журнал матчей'!$C$2:$C$301,A9,'Журнал матчей'!$F$2:$F$301)) | F9: =IF(OR(A9="",B9=0),"",ROUND(E9/B9,2)) | G9: =IF(A9="","",SUMIF('Журнал матчей'!$C$2:$C$301,A9,'Журнал матчей'!$G$2:$G$301)) | H9: =IF(A9="","",SUMIF('Журнал матчей'!$C$2:$C$301,A9,'Журнал матчей'!$H$2:$H$301)) | I9: =IF(A9="","",SUMIF('Журнал матчей'!$C$2:$C$301,A9,'Журнал матчей'!$I$2:$I$301)) | J9: =IF(OR(A9="",I9=0),"",ROUND(C9/I9*100,1))
B10: =IF(A10="","",COUNTIF('Журнал матчей'!$C$2:$C$301,A10)) | C10: =IF(A10="","",SUMIF('Журнал матчей'!$C$2:$C$301,A10,'Журнал матчей'!$D$2:$D$301)) | D10: =IF(A10="","",SUMIF('Журнал матчей'!$C$2:$C$301,A10,'Журнал матчей'!$E$2:$E$301)) | E10: =IF(A10="","",SUMIF('Журнал матчей'!$C$2:$C$301,A10,'Журнал матчей'!$F$2:$F$301)) | F10: =IF(OR(A10="",B10=0),"",ROUND(E10/B10,2)) | G10: =IF(A10="","",SUMIF('Журнал матчей'!$C$2:$C$301,A10,'Журнал матчей'!$G$2:$G$301)) | H10: =IF(A10="","",SUMIF('Журнал матчей'!$C$2:$C$301,A10,'Журнал матчей'!$H$2:$H$301)) | I10: =IF(A10="","",SUMIF('Журнал матчей'!$C$2:$C$301,A10,'Журнал матчей'!$I$2:$I$301)) | J10: =IF(OR(A10="",I10=0),"",ROUND(C10/I10*100,1))
B11: =IF(A11="","",COUNTIF('Журнал матчей'!$C$2:$C$301,A11)) | C11: =IF(A11="","",SUMIF('Журнал матчей'!$C$2:$C$301,A11,'Журнал матчей'!$D$2:$D$301)) | D11: =IF(A11="","",SUMIF('Журнал матчей'!$C$2:$C$301,A11,'Журнал матчей'!$E$2:$E$301)) | E11: =IF(A11="","",SUMIF('Журнал матчей'!$C$2:$C$301,A11,'Журнал матчей'!$F$2:$F$301)) | F11: =IF(OR(A11="",B11=0),"",ROUND(E11/B11,2)) | G11: =IF(A11="","",SUMIF('Журнал матчей'!$C$2:$C$301,A11,'Журнал матчей'!$G$2:$G$301)) | H11: =IF(A11="","",SUMIF('Журнал матчей'!$C$2:$C$301,A11,'Журнал матчей'!$H$2:$H$301)) | I11: =IF(A11="","",SUMIF('Журнал матчей'!$C$2:$C$301,A11,'Журнал матчей'!$I$2:$I$301)) | J11: =IF(OR(A11="",I11=0),"",ROUND(C11/I11*100,1))
B12: =IF(A12="","",COUNTIF('Журнал матчей'!$C$2:$C$301,A12)) | C12: =IF(A12="","",SUMIF('Журнал матчей'!$C$2:$C$301,A12,'Журнал матчей'!$D$2:$D$301)) | D12: =IF(A12="","",SUMIF('Журнал матчей'!$C$2:$C$301,A12,'Журнал матчей'!$E$2:$E$301)) | E12: =IF(A12="","",SUMIF('Журнал матчей'!$C$2:$C$301,A12,'Журнал матчей'!$F$2:$F$301)) | F12: =IF(OR(A12="",B12=0),"",ROUND(E12/B12,2)) | G12: =IF(A12="","",SUMIF('Журнал матчей'!$C$2:$C$301,A12,'Журнал матчей'!$G$2:$G$301)) | H12: =IF(A12="","",SUMIF('Журнал матчей'!$C$2:$C$301,A12,'Журнал матчей'!$H$2:$H$301)) | I12: =IF(A12="","",SUMIF('Журнал матчей'!$C$2:$C$301,A12,'Журнал матчей'!$I$2:$I$301)) | J12: =IF(OR(A12="",I12=0),"",ROUND(C12/I12*100,1))
B13: =IF(A13="","",COUNTIF('Журнал матчей'!$C$2:$C$301,A13)) | C13: =IF(A13="","",SUMIF('Журнал матчей'!$C$2:$C$301,A13,'Журнал матчей'!$D$2:$D$301)) | D13: =IF(A13="","",SUMIF('Журнал матчей'!$C$2:$C$301,A13,'Журнал матчей'!$E$2:$E$301)) | E13: =IF(A13="","",SUMIF('Журнал матчей'!$C$2:$C$301,A13,'Журнал матчей'!$F$2:$F$301)) | F13: =IF(OR(A13="",B13=0),"",ROUND(E13/B13,2)) | G13: =IF(A13="","",SUMIF('Журнал матчей'!$C$2:$C$301,A13,'Журнал матчей'!$G$2:$G$301)) | H13: =IF(A13="","",SUMIF('Журнал матчей'!$C$2:$C$301,A13,'Журнал матчей'!$H$2:$H$301)) | I13: =IF(A13="","",SUMIF('Журнал матчей'!$C$2:$C$301,A13,'Журнал матчей'!$I$2:$I$301)) | J13: =IF(OR(A13="",I13=0),"",ROUND(C13/I13*100,1))
... B41: =IF(A41="","",COUNTIF('Журнал матчей'!$C$2:$C$301,A41)) | C41: =IF(A41="","",SUMIF('Журнал матчей'!$C$2:$C$301,A41,'Журнал матчей'!$D$2:$D$301)) | D41: =IF(A41="","",SUMIF('Журнал матчей'!$C$2:$C$301,A41,'Журнал матчей'!$E$2:$E$301)) | E41: =IF(A41="","",SUMIF('Журнал матчей'!$C$2:$C$301,A41,'Журнал матчей'!$F$2:$F$301)) | F41: =IF(OR(A41="",B41=0),"",ROUND(E41/B41,2)) | G41: =IF(A41="","",SUMIF('Журнал матчей'!$C$2:$C$301,A41,'Журнал матчей'!$G$2:$G$301)) | H41: =IF(A41="","",SUMIF('Журнал матчей'!$C$2:$C$301,A41,'Журнал матчей'!$H$2:$H$301)) | I41: =IF(A41="","",SUMIF('Журнал матчей'!$C$2:$C$301,A41,'Журнал матчей'!$I$2:$I$301)) | J41: =IF(OR(A41="",I41=0),"",ROUND(C41/I41*100,1))

Sheet Вратари
A1: Дата | B1: Соперник | C1: Вратарь | D1: Отражено бросков | E1: Пропущено | F1: % отражённых | G1: «Сухой» матч
F2: =IF(OR(C2="",D2+E2=0),"",ROUND(D2/(D2+E2)*100,1)) | G2: =IF(C2="","",IF(E2=0,"да","нет"))
F3: =IF(OR(C3="",D3+E3=0),"",ROUND(D3/(D3+E3)*100,1)) | G3: =IF(C3="","",IF(E3=0,"да","нет"))
F4: =IF(OR(C4="",D4+E4=0),"",ROUND(D4/(D4+E4)*100,1)) | G4: =IF(C4="","",IF(E4=0,"да","нет"))
F5: =IF(OR(C5="",D5+E5=0),"",ROUND(D5/(D5+E5)*100,1)) | G5: =IF(C5="","",IF(E5=0,"да","нет"))
F6: =IF(OR(C6="",D6+E6=0),"",ROUND(D6/(D6+E6)*100,1)) | G6: =IF(C6="","",IF(E6=0,"да","нет"))
F7: =IF(OR(C7="",D7+E7=0),"",ROUND(D7/(D7+E7)*100,1)) | G7: =IF(C7="","",IF(E7=0,"да","нет"))
F8: =IF(OR(C8="",D8+E8=0),"",ROUND(D8/(D8+E8)*100,1)) | G8: =IF(C8="","",IF(E8=0,"да","нет"))
F9: =IF(OR(C9="",D9+E9=0),"",ROUND(D9/(D9+E9)*100,1)) | G9: =IF(C9="","",IF(E9=0,"да","нет"))
F10: =IF(OR(C10="",D10+E10=0),"",ROUND(D10/(D10+E10)*100,1)) | G10: =IF(C10="","",IF(E10=0,"да","нет"))
F11: =IF(OR(C11="",D11+E11=0),"",ROUND(D11/(D11+E11)*100,1)) | G11: =IF(C11="","",IF(E11=0,"да","нет"))
F12: =IF(OR(C12="",D12+E12=0),"",ROUND(D12/(D12+E12)*100,1)) | G12: =IF(C12="","",IF(E12=0,"да","нет"))
F13: =IF(OR(C13="",D13+E13=0),"",ROUND(D13/(D13+E13)*100,1)) | G13: =IF(C13="","",IF(E13=0,"да","нет"))
... F101: =IF(OR(C101="",D101+E101=0),"",ROUND(D101/(D101+E101)*100,1)) | G101: =IF(C101="","",IF(E101=0,"да","нет"))
